BEGIN:VCALENDAR
VERSION:2.0
PRODID:-//Women Employed - ECPv6.15.20//NONSGML v1.0//EN
CALSCALE:GREGORIAN
METHOD:PUBLISH
X-ORIGINAL-URL:https://womenemployed.org
X-WR-CALDESC:Events for Women Employed
REFRESH-INTERVAL;VALUE=DURATION:PT1H
X-Robots-Tag:noindex
X-PUBLISHED-TTL:PT1H
BEGIN:VTIMEZONE
TZID:UTC
BEGIN:STANDARD
TZOFFSETFROM:+0000
TZOFFSETTO:+0000
TZNAME:UTC
DTSTART:20180101T000000
END:STANDARD
END:VTIMEZONE
BEGIN:VEVENT
DTSTART;TZID=UTC:20191008T173000
DTEND;TZID=UTC:20191008T190000
DTSTAMP:20260421T120134
CREATED:20190509T113457Z
LAST-MODIFIED:20190509T113457Z
UID:9993-1570555800-1570561200@womenemployed.org
SUMMARY:Advocacy Council Meeting
DESCRIPTION:The Advocacy Council is WE’s young women’s activist group that meets on a monthly basis to mobilize\, advocate\, inform\, “friendraise\,” and fundraise to advance the movement for women’s economic equality. Snacks and beverages provided! RSVP required to Amanda Collins at acollins@womenemployed.org.
URL:https://womenemployed.org/event/advocacy-council-meeting-2-4/
LOCATION:Women Employed\, 1 E. Wacker Place 20th FL\, Chicago\, IL\, 60601\, United States
CATEGORIES:Advocacy Council
ATTACH;FMTTYPE=image/jpeg:https://womenemployed.org/wp-content/uploads/2019/05/default-event-hero.jpg
END:VEVENT
BEGIN:VEVENT
DTSTART;TZID=UTC:20190917T083000
DTEND;TZID=UTC:20190917T130000
DTSTAMP:20260421T120134
CREATED:20190815T003133Z
LAST-MODIFIED:20190815T003133Z
UID:3653-1568709000-1568725200@womenemployed.org
SUMMARY:Women\, Equity\, and Global Development Symposium 2019
DESCRIPTION:The global community is changing faster than ever with political\, social\, and technological advancements bolstering more attention and action to overcoming global inequities. These trends toward more equitable representation in leadership\, business\, and media are empowering historically marginalized communities\, advancing progress toward a more sustainable\, collective future. With women\, LGBTQIA+ persons\, people of color\, people of different abilities\, and youth as the world’s changemakers\, this collective future is closer than we think—it’s here. The future is now. How do we continue to foster progress and promote equity across sectors? How do we ensure the brightest future for all people? Hosted by the Chicago Council on Global Affairs. Learn more and register at https://digital.thechicagocouncil.org/the-future-is-now.
URL:https://womenemployed.org/event/women-equity-and-global-development-symposium-2019-3/
LOCATION:Prudential Plaza\, McCormick Foundation Hall\, 130 East Randolph Street\, Chicago\, IL\, 60601\, United States
CATEGORIES:Partner Event
ATTACH;FMTTYPE=image/png:https://womenemployed.org/wp-content/uploads/2019/05/PartnerEvent.png
END:VEVENT
BEGIN:VEVENT
DTSTART;TZID=UTC:20190917T083000
DTEND;TZID=UTC:20190917T130000
DTSTAMP:20260421T120134
CREATED:20190815T003133Z
LAST-MODIFIED:20190815T003133Z
UID:9873-1568709000-1568725200@womenemployed.org
SUMMARY:Women\, Equity\, and Global Development Symposium 2019
DESCRIPTION:The global community is changing faster than ever with political\, social\, and technological advancements bolstering more attention and action to overcoming global inequities. These trends toward more equitable representation in leadership\, business\, and media are empowering historically marginalized communities\, advancing progress toward a more sustainable\, collective future. With women\, LGBTQIA+ persons\, people of color\, people of different abilities\, and youth as the world’s changemakers\, this collective future is closer than we think—it’s here. The future is now. How do we continue to foster progress and promote equity across sectors? How do we ensure the brightest future for all people? Hosted by the Chicago Council on Global Affairs. Learn more and register at https://digital.thechicagocouncil.org/the-future-is-now.
URL:https://womenemployed.org/event/women-equity-and-global-development-symposium-2019/
LOCATION:Prudential Plaza\, McCormick Foundation Hall\, 130 East Randolph Street\, Chicago\, IL\, 60601\, United States
CATEGORIES:Partner Event
ATTACH;FMTTYPE=image/png:https://womenemployed.org/wp-content/uploads/2019/05/PartnerEvent.png
END:VEVENT
BEGIN:VEVENT
DTSTART;TZID=UTC:20190917T083000
DTEND;TZID=UTC:20190917T130000
DTSTAMP:20260421T120134
CREATED:20190815T003133Z
LAST-MODIFIED:20190815T003133Z
UID:9946-1568709000-1568725200@womenemployed.org
SUMMARY:Women\, Equity\, and Global Development Symposium 2019
DESCRIPTION:The global community is changing faster than ever with political\, social\, and technological advancements bolstering more attention and action to overcoming global inequities. These trends toward more equitable representation in leadership\, business\, and media are empowering historically marginalized communities\, advancing progress toward a more sustainable\, collective future. With women\, LGBTQIA+ persons\, people of color\, people of different abilities\, and youth as the world’s changemakers\, this collective future is closer than we think—it’s here. The future is now. How do we continue to foster progress and promote equity across sectors? How do we ensure the brightest future for all people? Hosted by the Chicago Council on Global Affairs. Learn more and register at https://digital.thechicagocouncil.org/the-future-is-now.
URL:https://womenemployed.org/event/women-equity-and-global-development-symposium-2019-2/
LOCATION:Prudential Plaza\, McCormick Foundation Hall\, 130 East Randolph Street\, Chicago\, IL\, 60601\, United States
CATEGORIES:Partner Event
ATTACH;FMTTYPE=image/png:https://womenemployed.org/wp-content/uploads/2019/05/PartnerEvent.png
END:VEVENT
BEGIN:VEVENT
DTSTART;TZID=UTC:20190917T083000
DTEND;TZID=UTC:20190917T130000
DTSTAMP:20260421T120134
CREATED:20190815T003133Z
LAST-MODIFIED:20190815T003133Z
UID:9998-1568709000-1568725200@womenemployed.org
SUMMARY:Women\, Equity\, and Global Development Symposium 2019
DESCRIPTION:The global community is changing faster than ever with political\, social\, and technological advancements bolstering more attention and action to overcoming global inequities. These trends toward more equitable representation in leadership\, business\, and media are empowering historically marginalized communities\, advancing progress toward a more sustainable\, collective future. With women\, LGBTQIA+ persons\, people of color\, people of different abilities\, and youth as the world’s changemakers\, this collective future is closer than we think—it’s here. The future is now. How do we continue to foster progress and promote equity across sectors? How do we ensure the brightest future for all people? Hosted by the Chicago Council on Global Affairs. Learn more and register at https://digital.thechicagocouncil.org/the-future-is-now.
URL:https://womenemployed.org/event/women-equity-and-global-development-symposium-2019-4/
LOCATION:Prudential Plaza\, McCormick Foundation Hall\, 130 East Randolph Street\, Chicago\, IL\, 60601\, United States
CATEGORIES:Partner Event
ATTACH;FMTTYPE=image/png:https://womenemployed.org/wp-content/uploads/2019/05/PartnerEvent.png
END:VEVENT
BEGIN:VEVENT
DTSTART;TZID=UTC:20190910T173000
DTEND;TZID=UTC:20190910T190000
DTSTAMP:20260421T120134
CREATED:20190509T112725Z
LAST-MODIFIED:20190509T112725Z
UID:9616-1568136600-1568142000@womenemployed.org
SUMMARY:Advocacy Council Meeting
DESCRIPTION:The Advocacy Council is WE’s young women’s activist group that meets on a monthly basis to mobilize\, advocate\, inform\, “friendraise\,” and fundraise to advance the movement for women’s economic equality. Snacks and beverages provided! RSVP required to Amanda Collins at acollins@womenemployed.org.
URL:https://womenemployed.org/event/advocacy-council-meeting-6/
LOCATION:Women Employed\, 1 E. Wacker Place 20th FL\, Chicago\, IL\, 60601\, United States
CATEGORIES:Advocacy Council
ATTACH;FMTTYPE=image/jpeg:https://womenemployed.org/wp-content/uploads/2019/05/default-event-hero.jpg
END:VEVENT
BEGIN:VEVENT
DTSTART;TZID=UTC:20190910T173000
DTEND;TZID=UTC:20190910T190000
DTSTAMP:20260421T120134
CREATED:20190509T112725Z
LAST-MODIFIED:20190509T112725Z
UID:9867-1568136600-1568142000@womenemployed.org
SUMMARY:Advocacy Council Meeting
DESCRIPTION:The Advocacy Council is WE’s young women’s activist group that meets on a monthly basis to mobilize\, advocate\, inform\, “friendraise\,” and fundraise to advance the movement for women’s economic equality. Snacks and beverages provided! RSVP required to Amanda Collins at acollins@womenemployed.org.
URL:https://womenemployed.org/event/advocacy-council-meeting/
LOCATION:Women Employed\, 1 E. Wacker Place 20th FL\, Chicago\, IL\, 60601\, United States
CATEGORIES:Advocacy Council
ATTACH;FMTTYPE=image/jpeg:https://womenemployed.org/wp-content/uploads/2019/05/default-event-hero.jpg
END:VEVENT
BEGIN:VEVENT
DTSTART;TZID=UTC:20190910T173000
DTEND;TZID=UTC:20190910T190000
DTSTAMP:20260421T120134
CREATED:20190509T112725Z
LAST-MODIFIED:20190509T112725Z
UID:9940-1568136600-1568142000@womenemployed.org
SUMMARY:Advocacy Council Meeting
DESCRIPTION:The Advocacy Council is WE’s young women’s activist group that meets on a monthly basis to mobilize\, advocate\, inform\, “friendraise\,” and fundraise to advance the movement for women’s economic equality. Snacks and beverages provided! RSVP required to Amanda Collins at acollins@womenemployed.org.
URL:https://womenemployed.org/event/advocacy-council-meeting-5/
LOCATION:Women Employed\, 1 E. Wacker Place 20th FL\, Chicago\, IL\, 60601\, United States
CATEGORIES:Advocacy Council
ATTACH;FMTTYPE=image/jpeg:https://womenemployed.org/wp-content/uploads/2019/05/default-event-hero.jpg
END:VEVENT
BEGIN:VEVENT
DTSTART;TZID=UTC:20190910T173000
DTEND;TZID=UTC:20190910T190000
DTSTAMP:20260421T120134
CREATED:20190509T112725Z
LAST-MODIFIED:20190509T112725Z
UID:9992-1568136600-1568142000@womenemployed.org
SUMMARY:Advocacy Council Meeting
DESCRIPTION:The Advocacy Council is WE’s young women’s activist group that meets on a monthly basis to mobilize\, advocate\, inform\, “friendraise\,” and fundraise to advance the movement for women’s economic equality. Snacks and beverages provided! RSVP required to Amanda Collins at acollins@womenemployed.org.
URL:https://womenemployed.org/event/advocacy-council-meeting-7/
LOCATION:Women Employed\, 1 E. Wacker Place 20th FL\, Chicago\, IL\, 60601\, United States
CATEGORIES:Advocacy Council
ATTACH;FMTTYPE=image/jpeg:https://womenemployed.org/wp-content/uploads/2019/05/default-event-hero.jpg
END:VEVENT
BEGIN:VEVENT
DTSTART;TZID=UTC:20190813T120000
DTEND;TZID=UTC:20190813T131500
DTSTAMP:20260421T120134
CREATED:20190712T171114Z
LAST-MODIFIED:20190712T171114Z
UID:3511-1565697600-1565702100@womenemployed.org
SUMMARY:Quality Jobs Council Meeting
DESCRIPTION:The Quality Jobs Council meets regularly to develop ideas and strategies for bettering workplace conditions for women in all industries. At this meeting\, we’ll celebrate our successful legislative session and the No Salary History and sexual harassment victories (eagerly awaiting the Governor’s signature) – and discuss the work that continues: the fair scheduling and minimum wage ordinances introduced at the city\, as well as our paid leave efforts at the state level. RSVP required to Sharmili Majmudar at smajmudar@womenemployed.org.
URL:https://womenemployed.org/event/quality-jobs-council-meeting-2/
LOCATION:RSVP for location details
ATTACH;FMTTYPE=image/png:https://womenemployed.org/wp-content/uploads/2019/04/diversity.png
END:VEVENT
BEGIN:VEVENT
DTSTART;TZID=UTC:20190813T120000
DTEND;TZID=UTC:20190813T131500
DTSTAMP:20260421T120134
CREATED:20190712T171114Z
LAST-MODIFIED:20190712T171114Z
UID:9872-1565697600-1565702100@womenemployed.org
SUMMARY:Quality Jobs Council Meeting
DESCRIPTION:The Quality Jobs Council meets regularly to develop ideas and strategies for bettering workplace conditions for women in all industries. At this meeting\, we’ll celebrate our successful legislative session and the No Salary History and sexual harassment victories (eagerly awaiting the Governor’s signature) – and discuss the work that continues: the fair scheduling and minimum wage ordinances introduced at the city\, as well as our paid leave efforts at the state level. RSVP required to Sharmili Majmudar at smajmudar@womenemployed.org.
URL:https://womenemployed.org/event/quality-jobs-council-meeting/
LOCATION:RSVP for location details
ATTACH;FMTTYPE=image/png:https://womenemployed.org/wp-content/uploads/2019/04/diversity.png
END:VEVENT
BEGIN:VEVENT
DTSTART;TZID=UTC:20190813T120000
DTEND;TZID=UTC:20190813T131500
DTSTAMP:20260421T120134
CREATED:20190712T171114Z
LAST-MODIFIED:20190712T171114Z
UID:9945-1565697600-1565702100@womenemployed.org
SUMMARY:Quality Jobs Council Meeting
DESCRIPTION:The Quality Jobs Council meets regularly to develop ideas and strategies for bettering workplace conditions for women in all industries. At this meeting\, we’ll celebrate our successful legislative session and the No Salary History and sexual harassment victories (eagerly awaiting the Governor’s signature) – and discuss the work that continues: the fair scheduling and minimum wage ordinances introduced at the city\, as well as our paid leave efforts at the state level. RSVP required to Sharmili Majmudar at smajmudar@womenemployed.org.
URL:https://womenemployed.org/event/quality-jobs-council-meeting-3/
LOCATION:RSVP for location details
ATTACH;FMTTYPE=image/png:https://womenemployed.org/wp-content/uploads/2019/04/diversity.png
END:VEVENT
BEGIN:VEVENT
DTSTART;TZID=UTC:20190813T120000
DTEND;TZID=UTC:20190813T131500
DTSTAMP:20260421T120134
CREATED:20190712T171114Z
LAST-MODIFIED:20190712T171114Z
UID:9997-1565697600-1565702100@womenemployed.org
SUMMARY:Quality Jobs Council Meeting
DESCRIPTION:The Quality Jobs Council meets regularly to develop ideas and strategies for bettering workplace conditions for women in all industries. At this meeting\, we’ll celebrate our successful legislative session and the No Salary History and sexual harassment victories (eagerly awaiting the Governor’s signature) – and discuss the work that continues: the fair scheduling and minimum wage ordinances introduced at the city\, as well as our paid leave efforts at the state level. RSVP required to Sharmili Majmudar at smajmudar@womenemployed.org.
URL:https://womenemployed.org/event/quality-jobs-council-meeting-4/
LOCATION:RSVP for location details
ATTACH;FMTTYPE=image/png:https://womenemployed.org/wp-content/uploads/2019/04/diversity.png
END:VEVENT
BEGIN:VEVENT
DTSTART;TZID=UTC:20190618T173000
DTEND;TZID=UTC:20190618T203000
DTSTAMP:20260421T120134
CREATED:20190509T112337Z
LAST-MODIFIED:20190509T112337Z
UID:9614-1560879000-1560889800@womenemployed.org
SUMMARY:Advocacy Council Meeting and Summer Social
DESCRIPTION:Mix and mingle with Women Employed staff\, Advocacy Council members\, and participants of The 2019 Pattis Family Foundation Summer Leadership Program at our annual summer social. From 5:30 p.m. – 7:00 p.m. we’ll hold our meeting at Women Employed. From 7:00 p.m . – 8:30 p.m. we’ll hold the Summer Social at Emerald Loop Bar & Grill\, 216 N. Wabash Ave. Snacks will be provided at the meeting\, and a cash/credit bar will be available at the Summer Social. To attend\, please RSVP to Amanda at acollins@womenemployed.org.
URL:https://womenemployed.org/event/advocacy-council-meeting-and-summer-social-2-3/
LOCATION:Women Employed\, 1 E. Wacker Place 20th FL\, Chicago\, IL\, 60601\, United States
CATEGORIES:Advocacy Council,Featured Event
ATTACH;FMTTYPE=image/jpeg:https://womenemployed.org/wp-content/uploads/2019/05/default-event-hero.jpg
END:VEVENT
BEGIN:VEVENT
DTSTART;TZID=UTC:20190618T173000
DTEND;TZID=UTC:20190618T203000
DTSTAMP:20260421T120134
CREATED:20190509T112337Z
LAST-MODIFIED:20190509T112337Z
UID:9865-1560879000-1560889800@womenemployed.org
SUMMARY:Advocacy Council Meeting and Summer Social
DESCRIPTION:Mix and mingle with Women Employed staff\, Advocacy Council members\, and participants of The 2019 Pattis Family Foundation Summer Leadership Program at our annual summer social. From 5:30 p.m. – 7:00 p.m. we’ll hold our meeting at Women Employed. From 7:00 p.m . – 8:30 p.m. we’ll hold the Summer Social at Emerald Loop Bar & Grill\, 216 N. Wabash Ave. Snacks will be provided at the meeting\, and a cash/credit bar will be available at the Summer Social. To attend\, please RSVP to Amanda at acollins@womenemployed.org.
URL:https://womenemployed.org/event/advocacy-council-meeting-and-summer-social-2/
LOCATION:Women Employed\, 1 E. Wacker Place 20th FL\, Chicago\, IL\, 60601\, United States
CATEGORIES:Advocacy Council,Featured Event
ATTACH;FMTTYPE=image/jpeg:https://womenemployed.org/wp-content/uploads/2019/05/default-event-hero.jpg
END:VEVENT
BEGIN:VEVENT
DTSTART;TZID=UTC:20190618T173000
DTEND;TZID=UTC:20190618T203000
DTSTAMP:20260421T120134
CREATED:20190509T112337Z
LAST-MODIFIED:20190509T112337Z
UID:9938-1560879000-1560889800@womenemployed.org
SUMMARY:Advocacy Council Meeting and Summer Social
DESCRIPTION:Mix and mingle with Women Employed staff\, Advocacy Council members\, and participants of The 2019 Pattis Family Foundation Summer Leadership Program at our annual summer social. From 5:30 p.m. – 7:00 p.m. we’ll hold our meeting at Women Employed. From 7:00 p.m . – 8:30 p.m. we’ll hold the Summer Social at Emerald Loop Bar & Grill\, 216 N. Wabash Ave. Snacks will be provided at the meeting\, and a cash/credit bar will be available at the Summer Social. To attend\, please RSVP to Amanda at acollins@womenemployed.org.
URL:https://womenemployed.org/event/advocacy-council-meeting-and-summer-social-2-2/
LOCATION:Women Employed\, 1 E. Wacker Place 20th FL\, Chicago\, IL\, 60601\, United States
CATEGORIES:Advocacy Council,Featured Event
ATTACH;FMTTYPE=image/jpeg:https://womenemployed.org/wp-content/uploads/2019/05/default-event-hero.jpg
END:VEVENT
BEGIN:VEVENT
DTSTART;TZID=UTC:20190618T173000
DTEND;TZID=UTC:20190618T203000
DTSTAMP:20260421T120134
CREATED:20190509T112337Z
LAST-MODIFIED:20190509T112337Z
UID:9990-1560879000-1560889800@womenemployed.org
SUMMARY:Advocacy Council Meeting and Summer Social
DESCRIPTION:Mix and mingle with Women Employed staff\, Advocacy Council members\, and participants of The 2019 Pattis Family Foundation Summer Leadership Program at our annual summer social. From 5:30 p.m. – 7:00 p.m. we’ll hold our meeting at Women Employed. From 7:00 p.m . – 8:30 p.m. we’ll hold the Summer Social at Emerald Loop Bar & Grill\, 216 N. Wabash Ave. Snacks will be provided at the meeting\, and a cash/credit bar will be available at the Summer Social. To attend\, please RSVP to Amanda at acollins@womenemployed.org.
URL:https://womenemployed.org/event/advocacy-council-meeting-and-summer-social-2-4/
LOCATION:Women Employed\, 1 E. Wacker Place 20th FL\, Chicago\, IL\, 60601\, United States
CATEGORIES:Advocacy Council,Featured Event
ATTACH;FMTTYPE=image/jpeg:https://womenemployed.org/wp-content/uploads/2019/05/default-event-hero.jpg
END:VEVENT
END:VCALENDAR